BEGIN:VCALENDAR
VERSION:2.0
PRODID:-//wp-events-plugin.com//7.2.3.1//EN
TZID:Europe/Amsterdam
X-WR-TIMEZONE:Europe/Amsterdam
BEGIN:VEVENT
UID:12@rsi-vereniging.nl
DTSTART;TZID=Europe/Amsterdam:20230412T190000
DTEND;TZID=Europe/Amsterdam:20230412T210000
DTSTAMP:20230407T082953Z
URL:https://rsi-vereniging.nl/agenda/digitale-huiskamerbijeenkomst/
SUMMARY:Digitale huiskamerbijeenkomst
DESCRIPTION:Deel je ervaringen via onze digitale huiskamer- bijeenkomsten\n
 Vier hoofden op een scherm. Twee dertigers\, die flinke RSI klachten hebbe
 n en enkele leden van de vereniging\, die al langer geleden een heel traje
 ct doorlopen hebben met hun klachten. Maar de verhalen en vragen verschill
 en eigenlijk niet. Allerlei therapieën volgen\, proberen door te werken o
 f een flinke tijd helemaal stoppen en de vraag of je al dan niet ander wer
 k moet zoeken.\n\n\n\nHerkenning en geïnspireerd worden. Niet direct oplo
 ssingen\, maar horen hoe anderen er mee om gaan en wat voor hen wel effect
  had. Je bent niet de enige. Het er over hebben met mensen die hetzelfde m
 eemaken of meegemaakt hebben\, die begrijpen hoe je je voelt. Dat levert m
 eedoen met een digitale huiskamerbijeenkomst op.\nErvaringen van deelnemer
 s:\n‘Ik ben blij dat ik ben aangehaakt bij de online bijeenkomst. Een fi
 jne groep van mensen heb ik heb mogen ontmoeten. Ik heb daar Rebecca ontmo
 et die op dit moment ook niet in staat is om te werken door dezelfde klach
 ten. Het is fijn om met een lotgenoot daarover te kunnen praten. Wij hebbe
 n nu contactgegevens uitgewisseld om contact te houden. Het delen van erva
 ringen van pijn\, obstakels maar ook mogelijke oplossingen met de groep he
 b ik als prettig ervaren.’\n\n'Ik vond het vooral laagdrempelig\, persoo
 nlijk\, herkenbaar en ik vond dat er goed geluisterd werd naar elkaar. Goe
 de tips\, herkenning en weer leuke contacten opgedaan.'\n\nWil jij je aanm
 elden voor de volgende digitale huiskamer bijeenkomst? \n\nDe volgende hu
 iskamer bijeenkomst vindt plaats op 12 april om 19.00\, je kan je aanmelde
 n door een mail te sturen naar postbus@rsi-vereniging.nl.  Na aanmelding 
 krijg je een teamslink toegestuurd.
END:VEVENT
BEGIN:VTIMEZONE
TZID:Europe/Amsterdam
X-LIC-LOCATION:Europe/Amsterdam
BEGIN:DAYLIGHT
DTSTART:20230326T030000
TZOFFSETFROM:+0100
TZOFFSETTO:+0200
TZNAME:CEST
END:DAYLIGHT
END:VTIMEZONE
END:VCALENDAR