BEGIN:VCALENDAR
VERSION:2.0
PRODID:-//wp-events-plugin.com//7.2.3.1//EN
TZID:Europe/Amsterdam
X-WR-TIMEZONE:Europe/Amsterdam
BEGIN:VEVENT
UID:32@rsi-vereniging.nl
DTSTART;TZID=Europe/Amsterdam:20250322T133000
DTEND;TZID=Europe/Amsterdam:20250322T150000
DTSTAMP:20250313T165243Z
URL:https://rsi-vereniging.nl/agenda/themamiddag-22-maart-2025/
SUMMARY:Themamiddag 22 maart 2025
DESCRIPTION:Voor wie?\nIedereen kan meedoen aan de themamiddag\, of je nu l
 id bent of niet.\nKosten\nDeelname is gratis\, ook eventueel de lunch.\nWa
 nneer en waar?\nDatum: zaterdag 22 maart\, van 13.30 tot 15.00 uur\nLunch:
  van 12.30 tot 13.15 uur (optie)\nLocatie: Leerhotel Het Klooster\, Daam F
 ockemalaan 10\, 3818 KG Amersfoort\nWebsite: https://leerhotelhetklooster.
 nl\n\nTussen 11:00 en 12:30\, voorgaand aan de themamiddag\, vindt onze AL
 V plaats.\nAanmelden\n[gravityform id="13" title="true"]\n\nKom je met mee
 rdere personen? Vul dan het formulier voor elke deelnemer in!
END:VEVENT
BEGIN:VTIMEZONE
TZID:Europe/Amsterdam
X-LIC-LOCATION:Europe/Amsterdam
BEGIN:STANDARD
DTSTART:20241027T020000
TZOFFSETFROM:+0200
TZOFFSETTO:+0100
TZNAME:CET
END:STANDARD
END:VTIMEZONE
END:VCALENDAR