BEGIN:VCALENDAR
VERSION:2.0
PRODID:-//wp-events-plugin.com//7.2.3.1//EN
TZID:Europe/Amsterdam
X-WR-TIMEZONE:Europe/Amsterdam
BEGIN:VEVENT
UID:11@rsi-vereniging.nl
DTSTART;TZID=Europe/Amsterdam:20230318T130000
DTEND;TZID=Europe/Amsterdam:20230318T163000
DTSTAMP:20230221T142805Z
URL:https://rsi-vereniging.nl/agenda/uitnodiging-themadag-18-maart-rsi-kla
 chten-maak-ze-zichtbaar/
SUMMARY:Uitnodiging themadag 18 maart: RSI-klachten maak ze zichtbaar!
DESCRIPTION:Meer informatie in dit bericht.
END:VEVENT
BEGIN:VTIMEZONE
TZID:Europe/Amsterdam
X-LIC-LOCATION:Europe/Amsterdam
BEGIN:STANDARD
DTSTART:20221030T020000
TZOFFSETFROM:+0200
TZOFFSETTO:+0100
TZNAME:CET
END:STANDARD
END:VTIMEZONE
END:VCALENDAR