BEGIN:VCALENDAR
VERSION:2.0
PRODID:-//wp-events-plugin.com//7.2.3.1//EN
TZID:Europe/Amsterdam
X-WR-TIMEZONE:Europe/Amsterdam
BEGIN:VEVENT
UID:26@rsi-vereniging.nl
DTSTART;TZID=Europe/Amsterdam:20241107T190000
DTEND;TZID=Europe/Amsterdam:20241107T203000
DTSTAMP:20240815T161207Z
URL:https://rsi-vereniging.nl/agenda/webinar-rsi-klachten-bevrijd-jezelf-v
 an-pijn-en-verbeter-je-gezondheid/
SUMMARY:Webinar RSI-klachten: bevrijd jezelf van pijn en verbeter je gezond
 heid
DESCRIPTION:Webinar RSI-klachten: bevrijd jezelf van pijn\, over Erik Peper
 \nProf. Dr. Erik Peper is hoogleraar Holistische Gezondheidsstudies aan de
  San Francisco State University. Hij is Amerikaans\, maar van Nederlandse 
 afkomst. Daarom spreekt hij goed Nederlands (met af en toe een Amerikaans 
 woord ertussendoor).\n\nErik Peper is internationaal bekend door zijn kenn
 is over biofeedback en zelfmanagement. Hij heeft veel wetenschappelijke ar
 tikelen en boeken geschreven. Zijn nieuwste boek is TechStress: How Techno
 logy is Hijacking Our Lives\, Strategies for Coping\, and Pragmatic Ergono
 mics. Hij heeft dit boek met anderen geschreven.\nMeer over Erik Peper\nHi
 j:\n\n 	schrijft blogs: The Peper Perspective - ideeën over ziekte\, gezo
 ndheid en welzijn\n 	is voorzitter van de Biofeedback Federation of Europe
 \n 	is voormalig voorzitter van de Association for Applied Psychophysiolog
 y and Biofeedback\n 	ontving in 2013 de Biofeedback Distinguished Scientis
 t Award\n 	onderzoekt en geeft zijn kennis door over:\n\n 	zelfmanagement\
 n 	ziektepreventie\n 	de effecten van houding\n 	de effecten van ademhalin
 g\n 	biofeedback op draagbare apparaten\n\n\n\nErik Peper heeft in 2020 oo
 k een webinar voor ons gehouden\, zie Geef je op voor een webinar techstre
 ss van Erik Peper.\nVerslag Webinar RSI-klachten: bevrijd jezelf van pijn\
 nHet webinar wordt opgenomen. We maken er later een verslag van en zetten 
 de link naar de video daar in. Zo kun je het (nog een keer) bekijken. Als 
 het zover is\, dan vermelden we dat op onze website en via e-mail.\nTip\nA
 bonneer je op onze nieuwsbrief\, dan blijf je op de hoogte van alles rondo
 m RSI-klachten. Dat kan heel eenvoudig via het formulier rechts bovenaan d
 eze pagina.\nAanmelding Webinar RSI-klachten: bevrijd jezelf van pijn\nWil
  je meedoen\, meld je dan aan via ons inschrijfformulier: [gravityform id=
 "12" title="true"].\n\nVergeet niet op Aanmelden te klikken!\n\nTekst: Cor
 inne Travail
ATTACH;FMTTYPE=image/jpeg:https://rsi-vereniging.nl/wp-content/uploads/202
 4/08/Erik-peper.jpg
END:VEVENT
BEGIN:VTIMEZONE
TZID:Europe/Amsterdam
X-LIC-LOCATION:Europe/Amsterdam
BEGIN:STANDARD
DTSTART:20241027T020000
TZOFFSETFROM:+0200
TZOFFSETTO:+0100
TZNAME:CET
END:STANDARD
END:VTIMEZONE
END:VCALENDAR